BEGIN:VCALENDAR
VERSION:2.0
PRODID:-//Swauk Mining District - ECPv6.15.20//NONSGML v1.0//EN
CALSCALE:GREGORIAN
METHOD:PUBLISH
X-ORIGINAL-URL:https://swaukminingdistrict.org
X-WR-CALDESC:Events for Swauk Mining District
REFRESH-INTERVAL;VALUE=DURATION:PT1H
X-Robots-Tag:noindex
X-PUBLISHED-TTL:PT1H
BEGIN:VTIMEZONE
TZID:UTC
BEGIN:STANDARD
TZOFFSETFROM:+0000
TZOFFSETTO:+0000
TZNAME:UTC
DTSTART:20250101T000000
END:STANDARD
END:VTIMEZONE
BEGIN:VEVENT
DTSTART;TZID=UTC:20260606T160000
DTEND;TZID=UTC:20260606T170000
DTSTAMP:20260423T201555
CREATED:20251229T143400Z
LAST-MODIFIED:20251229T143420Z
UID:786-1780761600-1780765200@swaukminingdistrict.org
SUMMARY:CLUB MEETING
DESCRIPTION:General meeting @ Tool Shed
URL:https://swaukminingdistrict.org/event/club-meeting-3/
END:VEVENT
BEGIN:VEVENT
DTSTART;TZID=UTC:20260607T090000
DTEND;TZID=UTC:20260607T130000
DTSTAMP:20260423T201555
CREATED:20251229T143745Z
LAST-MODIFIED:20251229T143751Z
UID:788-1780822800-1780837200@swaukminingdistrict.org
SUMMARY:CLAIMS DAY
DESCRIPTION:@Lefty’s Claims  Host will be available.  Forest Service RD NF-9714
URL:https://swaukminingdistrict.org/event/claims-day/
END:VEVENT
END:VCALENDAR