BEGIN:VCALENDAR
VERSION:2.0
PRODID:-//Swauk Mining District - ECPv6.15.20//NONSGML v1.0//EN
CALSCALE:GREGORIAN
METHOD:PUBLISH
X-WR-CALNAME:Swauk Mining District
X-ORIGINAL-URL:https://swaukminingdistrict.org
X-WR-CALDESC:Events for Swauk Mining District
REFRESH-INTERVAL;VALUE=DURATION:PT1H
X-Robots-Tag:noindex
X-PUBLISHED-TTL:PT1H
BEGIN:VTIMEZONE
TZID:UTC
BEGIN:STANDARD
TZOFFSETFROM:+0000
TZOFFSETTO:+0000
TZNAME:UTC
DTSTART:20250101T000000
END:STANDARD
END:VTIMEZONE
BEGIN:VEVENT
DTSTART;VALUE=DATE:20260424
DTEND;VALUE=DATE:20260427
DTSTAMP:20260423T225418
CREATED:20251229T143016Z
LAST-MODIFIED:20251229T143023Z
UID:782-1776988800-1777247999@swaukminingdistrict.org
SUMMARY:Yakima Rock and Mineral Club Show
DESCRIPTION:Yakima Fairgrounds Modern Living Building\, Yakima\, WA
URL:https://swaukminingdistrict.org/event/yakima-rock-and-mineral-club-show/
END:VEVENT
BEGIN:VEVENT
DTSTART;TZID=UTC:20260502T160000
DTEND;TZID=UTC:20260502T170000
DTSTAMP:20260423T225418
CREATED:20251229T143237Z
LAST-MODIFIED:20251229T143243Z
UID:784-1777737600-1777741200@swaukminingdistrict.org
SUMMARY:CLUB MEETING
DESCRIPTION:Bring a guest
URL:https://swaukminingdistrict.org/event/club-meeting-2/
END:VEVENT
BEGIN:VEVENT
DTSTART;TZID=UTC:20260606T160000
DTEND;TZID=UTC:20260606T170000
DTSTAMP:20260423T225418
CREATED:20251229T143400Z
LAST-MODIFIED:20251229T143420Z
UID:786-1780761600-1780765200@swaukminingdistrict.org
SUMMARY:CLUB MEETING
DESCRIPTION:General meeting @ Tool Shed
URL:https://swaukminingdistrict.org/event/club-meeting-3/
END:VEVENT
BEGIN:VEVENT
DTSTART;TZID=UTC:20260607T090000
DTEND;TZID=UTC:20260607T130000
DTSTAMP:20260423T225418
CREATED:20251229T143745Z
LAST-MODIFIED:20251229T143751Z
UID:788-1780822800-1780837200@swaukminingdistrict.org
SUMMARY:CLAIMS DAY
DESCRIPTION:@Lefty’s Claims  Host will be available.  Forest Service RD NF-9714
URL:https://swaukminingdistrict.org/event/claims-day/
END:VEVENT
BEGIN:VEVENT
DTSTART;VALUE=DATE:20260704
DTEND;VALUE=DATE:20260705
DTSTAMP:20260423T225418
CREATED:20251229T143933Z
LAST-MODIFIED:20251229T143940Z
UID:790-1783123200-1783209599@swaukminingdistrict.org
SUMMARY:Independence Day
DESCRIPTION:NO CLUB MEETING!  Enjoy the day!
URL:https://swaukminingdistrict.org/event/independence-day/
END:VEVENT
BEGIN:VEVENT
DTSTART;TZID=UTC:20260711T160000
DTEND;TZID=UTC:20260711T170000
DTSTAMP:20260423T225418
CREATED:20251229T144101Z
LAST-MODIFIED:20251229T144107Z
UID:792-1783785600-1783789200@swaukminingdistrict.org
SUMMARY:CLUB MEETING
DESCRIPTION:General meeting @ Tool Shed
URL:https://swaukminingdistrict.org/event/club-meeting-4/
END:VEVENT
BEGIN:VEVENT
DTSTART;VALUE=DATE:20260712
DTEND;VALUE=DATE:20260713
DTSTAMP:20260423T225418
CREATED:20251229T144307Z
LAST-MODIFIED:20251229T144340Z
UID:794-1783814400-1783900799@swaukminingdistrict.org
SUMMARY:RAGING RIVER OUTING
DESCRIPTION:Prospecting on Raging River in Falls City  Andy will be the host for this event!
URL:https://swaukminingdistrict.org/event/raging-river-outing/
END:VEVENT
BEGIN:VEVENT
DTSTART;TZID=UTC:20260801T160000
DTEND;TZID=UTC:20260801T170000
DTSTAMP:20260423T225418
CREATED:20251229T144457Z
LAST-MODIFIED:20251229T144506Z
UID:796-1785600000-1785603600@swaukminingdistrict.org
SUMMARY:CLUB MEETING
DESCRIPTION:General meeting @ Tool Shed
URL:https://swaukminingdistrict.org/event/club-meeting-5/
END:VEVENT
BEGIN:VEVENT
DTSTART;TZID=UTC:20260802T090000
DTEND;TZID=UTC:20260802T130000
DTSTAMP:20260423T225418
CREATED:20251229T144828Z
LAST-MODIFIED:20251229T172941Z
UID:798-1785661200-1785675600@swaukminingdistrict.org
SUMMARY:CLAIMS DAY
DESCRIPTION:Claims day @ Shootz Claim  Milepost 175.5 Highway 97 towards Cashmere\, WA
URL:https://swaukminingdistrict.org/event/claims-day-2/
END:VEVENT
BEGIN:VEVENT
DTSTART;VALUE=DATE:20260808
DTEND;VALUE=DATE:20260810
DTSTAMP:20260423T225418
CREATED:20251229T145015Z
LAST-MODIFIED:20260414T233254Z
UID:800-1786147200-1786319999@swaukminingdistrict.org
SUMMARY:PNW Miners Rally
DESCRIPTION:Kittitas Valley Events Center\, Ellensburg\, WA.
URL:https://swaukminingdistrict.org/event/to-be-announced/
END:VEVENT
BEGIN:VEVENT
DTSTART;VALUE=DATE:20260831
DTEND;VALUE=DATE:20260901
DTSTAMP:20260423T225418
CREATED:20251229T145233Z
LAST-MODIFIED:20251229T145239Z
UID:802-1788134400-1788220799@swaukminingdistrict.org
SUMMARY:BLM PROOF OF LABOR and/or ASSESSMENT FEES DUE
DESCRIPTION:
URL:https://swaukminingdistrict.org/event/blm-proof-of-labor-and-or-assessment-fees-due/
END:VEVENT
BEGIN:VEVENT
DTSTART;TZID=UTC:20260912T160000
DTEND;TZID=UTC:20260912T170000
DTSTAMP:20260423T225418
CREATED:20251229T145521Z
LAST-MODIFIED:20251229T145527Z
UID:804-1789228800-1789232400@swaukminingdistrict.org
SUMMARY:CLUB MEETING
DESCRIPTION:General Club meeting @ Tool Shed.  Club nominations for officers
URL:https://swaukminingdistrict.org/event/club-meeting-6/
END:VEVENT
BEGIN:VEVENT
DTSTART;VALUE=DATE:20260919
DTEND;VALUE=DATE:20260921
DTSTAMP:20260423T225418
CREATED:20251229T145759Z
LAST-MODIFIED:20251229T145809Z
UID:806-1789776000-1789948799@swaukminingdistrict.org
SUMMARY:CAPE DISAPPOINTMENT BEACH MINING
DESCRIPTION:Outing at Cape Disappointment.  Beach mining.  Must have HPA
URL:https://swaukminingdistrict.org/event/cape-disappointment-beach-mining/
END:VEVENT
BEGIN:VEVENT
DTSTART;TZID=UTC:20261003T160000
DTEND;TZID=UTC:20261003T170000
DTSTAMP:20260423T225418
CREATED:20251229T145958Z
LAST-MODIFIED:20251229T150023Z
UID:808-1791043200-1791046800@swaukminingdistrict.org
SUMMARY:CLUB MEETING
DESCRIPTION:General Club Meeting @ Tool Shed.  ELECTIONS for Officers
URL:https://swaukminingdistrict.org/event/club-meeting-7/
END:VEVENT
BEGIN:VEVENT
DTSTART;TZID=UTC:20261107T160000
DTEND;TZID=UTC:20261107T170000
DTSTAMP:20260423T225418
CREATED:20251229T150149Z
LAST-MODIFIED:20251229T150158Z
UID:810-1794067200-1794070800@swaukminingdistrict.org
SUMMARY:CLUB MEETING
DESCRIPTION:Tentative Club Meeting @ Tool Shed
URL:https://swaukminingdistrict.org/event/club-meeting-8/
END:VEVENT
END:VCALENDAR